Workbook

Sheet S
A1: Mērķtiecīga organisko augšņu apmežošana LIZ
A2: Ikdienišķais scenārijs | B2: =INDEX(Pasākumi!C2:C15,MATCH(Izdruka!A5,Pasākumi!A2:A15,0)) -> GL_M_D
A3: Pasākuma īstenošanas scenārijs | B3: =INDEX(Pasākumi!D2:D15,MATCH(Izdruka!A5,Pasākumi!A2:A15,0)) -> AF_M_D_S
A4: SEG emisijas alternatīvajā scenārijā (zālājs ar organisku augsni)
A5: Parametrs | B5: Mērvienība | C5: 1 | D5: 2 | E5: 3 | F5: 4 | G5: 5 | H5: 6 | I5: 7 | J5: 8 | K5: 9 | L5: 10 | M5: 11 | N5: 12 | O5: 13 | P5: 14 | Q5: 15 | R5: 16 | S5: 17 | T5: 18 | U5: 19 | V5: 20 | W5: 21 | X5: 22 | Y5: 23 | Z5: 24 | AA5: 25 | AB5: 26 | AC5: 27 | AD5: 28 | AE5: 29 | AF5: 30 | AG5: 31 | AH5: 32 | AI5: 33 | AJ5: 34 | AK5: 35 | AL5: 36 | AM5: 37 | AN5: 38 | AO5: 39 | AP5: 40 | AQ5: 41 | AR5: 42 | AS5: 43 | AT5: 44 | AU5: 45 | AV5: 46 | AW5: 47 | AX5: 48 | AY5: 49 | AZ5: 50 | BA5: 51 | BB5: 52 | BC5: 53 | BD5: 54 | BE5: 55 | BF5: 56 | BG5: 57 | BH5: 58 | BI5: 59 | BJ5: 60 | BK5: 61 | BL5: 62 | BM5: 63 | BN5: 64 | BO5: 65 | BP5: 66 | BQ5: 67 | BR5: 68 | BS5: 69 | BT5: 70 | BU5: 71 | BV5: 72 | BW5: 73 | BX5: 74 | BY5: 75 | BZ5: 76 | CA5: 77 | CB5: 78 | CC5: 79 | CD5: 80 | CE5: 81 | CF5: 82 | CG5: 83 | CH5: 84 | CI5: 85 | CJ5: 86 | CK5: 87 | CL5: 88 | CM5: 89 | CN5: 90 | CO5: 91 | CP5: 92 | CQ5: 93 | CR5: 94 | CS5: 95 | CT5: 96 | CU5: 97 | CV5: 98 | CW5: 99 | CX5: 100 | CY5: 101 | CZ5: 102 | DA5: 103 | DB5: 104 | DC5: 105 | DD5: 106 | DE5: 107 | DF5: 108 | DG5: 109 | DH5: 110 | DI5: 111 | DJ5: 112 | DK5: 113 | DL5: 114 | DM5: 115 | DN5: 116 | DO5: 117 | DP5: 118 | DQ5: 119 | DR5: 120 | DS5: 121 | DT5: 122 | DU5: 123 | DV5: 124 | DW5: 125 | DX5: 126 | DY5: 127 | DZ5: 128 | EA5: 129 | EB5: 130 | EC5: 131 | ED5: 132 | EE5: 133 | EF5: 134 | EG5: 135 | EH5: 136 | EI5: 137 | EJ5: 138 | EK5: 139 | EL5: 140 | EM5: 141 | EN5: 142 | EO5: 143 | EP5: 144 | EQ5: 145 | ER5: 146 | ES5: 147 | ET5: 148 | EU5: 149 | EV5: 150 | EW5: 151 | EX5: 152 | EY5: 153 | EZ5: 154 | FA5: 155 | FB5: 156 | FC5: 157 | FD5: 158 | FE5: 159 | FF5: 160 | FG5: 161 | FH5: 162 | FI5: 163 | FJ5: 164 | FK5: 165 | FL5: 166 | FM5: 167 | FN5: 168 | FO5: 169 | FP5: 170 | FQ5: 171 | FR5: 172 | FS5: 173 | FT5: 174 | FU5: 175 | FV5: 176 | FW5: 177 | FX5: 178 | FY5: 179 | FZ5: 180 | GA5: 181 | GB5: 182 | GC5: 183 | GD5: 184 | GE5: 185 | GF5: 186 | GG5: 187 | GH5: 188 | GI5: 189 | GJ5: 190 | GK5: 191 | GL5: 192 | GM5: 193 | GN5: 194 | GO5: 195 | GP5: 196 | GQ5: 197 | GR5: 198 | GS5: 199 | GT5: 200
A6: Neto SEG emisijas | B6: tons CO₂ eq. ha⁻¹ yr⁻¹ | C6: =SUMIF(Summary!$B$3:$B$47,$B$2,Summary!C$3:C$47) -> 0 | D6: =SUMIF(Summary!$B$3:$B$47,$B$2,Summary!D$3:D$47) -> 0 | E6: =SUMIF(Summary!$B$3:$B$47,$B$2,Summary!E$3:E$47) -> 0 | F6: =SUMIF(Summary!$B$3:$B$47,$B$2,Summary!F$3:F$47) -> 0 | G6: =SUMIF(Summary!$B$3:$B$47,$B$2,Summary!G$3:G$47) -> 0 | H6: =SUMIF(Summary!$B$3:$B$47,$B$2,Summary!H$3:H$47) -> 0 | I6: =SUMIF(Summary!$B$3:$B$47,$B$2,Summary!I$3:I$47) -> 0 | J6: =SUMIF(Summary!$B$3:$B$47,$B$2,Summary!J$3:J$47) -> 0 | ... GT6: =SUMIF(Summary!$B$3:$B$47,$B$2,Summary!GT$3:GT$47) -> 0
A7: Neto SEG emisijas, neskaitot meža biokurināmo | B7: tons CO₂ eq. ha⁻¹ yr⁻¹ | C7: =SUMIF(Summary!$B$54:$B$98,$B$2,Summary!C$54:C$98) -> 0 | D7: =SUMIF(Summary!$B$54:$B$98,$B$2,Summary!D$54:D$98) -> 0 | E7: =SUMIF(Summary!$B$54:$B$98,$B$2,Summary!E$54:E$98) -> 0 | F7: =SUMIF(Summary!$B$54:$B$98,$B$2,Summary!F$54:F$98) -> 0 | G7: =SUMIF(Summary!$B$54:$B$98,$B$2,Summary!G$54:G$98) -> 0 | H7: =SUMIF(Summary!$B$54:$B$98,$B$2,Summary!H$54:H$98) -> 0 | I7: =SUMIF(Summary!$B$54:$B$98,$B$2,Summary!I$54:I$98) -> 0 | J7: =SUMIF(Summary!$B$54:$B$98,$B$2,Summary!J$54:J$98) -> 0 | ... GT7: =SUMIF(Summary!$B$54:$B$98,$B$2,Summary!GT$54:GT$98) -> 0
A8: Oglekļa uzkrājums zemsedzes augu biomasā | B8: tons C ha⁻¹ | C8: =SUMIF(Summary!$B$102:$B$146,$B$2,Summary!C$102:C$146) -> 6.8 | D8: =SUMIF(Summary!$B$102:$B$146,$B$2,Summary!D$102:D$146) -> 6.8 | E8: =SUMIF(Summary!$B$102:$B$146,$B$2,Summary!E$102:E$146) -> 6.8 | F8: =SUMIF(Summary!$B$102:$B$146,$B$2,Summary!F$102:F$146) -> 6.8 | G8: =SUMIF(Summary!$B$102:$B$146,$B$2,Summary!G$102:G$146) -> 6.8 | H8: =SUMIF(Summary!$B$102:$B$146,$B$2,Summary!H$102:H$146) -> 6.8 | I8: =SUMIF(Summary!$B$102:$B$146,$B$2,Summary!I$102:I$146) -> 6.8 | J8: =SUMIF(Summary!$B$102:$B$146,$B$2,Summary!J$102:J$146) -> 6.8 | ... GT8: =SUMIF(Summary!$B$102:$B$146,$B$2,Summary!GT$102:GT$146) -> 6.8
A10: SEG emisijas pasākuma īstenošanas scenārijā (egles audze)
A11: =A5 -> Parametrs | B11: =B5 -> Mērvienība | C11: =C5 -> 1 | D11: =D5 -> 2 | E11: =E5 -> 3 | F11: =F5 -> 4 | G11: =G5 -> 5 | H11: =H5 -> 6 | ... GT11: =GT5 -> 200
A12: =A6 -> Neto SEG emisijas | B12: tons CO₂ eq. ha⁻¹ yr⁻¹ | C12: =SUMIF(Summary!$B$3:$B$47,$B$3,Summary!C$3:C$47) -> -1.8558286 | D12: =SUMIF(Summary!$B$3:$B$47,$B$3,Summary!D$3:D$47) -> -2.6335427 | E12: =SUMIF(Summary!$B$3:$B$47,$B$3,Summary!E$3:E$47) -> -2.0502532 | F12: =SUMIF(Summary!$B$3:$B$47,$B$3,Summary!F$3:F$47) -> -2.1719032 | G12: =SUMIF(Summary!$B$3:$B$47,$B$3,Summary!G$3:G$47) -> -2.3220385 | H12: =SUMIF(Summary!$B$3:$B$47,$B$3,Summary!H$3:H$47) -> -2.4972152 | I12: =SUMIF(Summary!$B$3:$B$47,$B$3,Summary!I$3:I$47) -> -2.6952761 | J12: =SUMIF(Summary!$B$3:$B$47,$B$3,Summary!J$3:J$47) -> -2.9149301 | ... GT12: =SUMIF(Summary!$B$3:$B$47,$B$3,Summary!GT$3:GT$47) -> -8.7352724
A13: =A7 -> Neto SEG emisijas, neskaitot meža biokurināmo | B13: tons CO₂ eq. ha⁻¹ yr⁻¹ | C13: =SUMIF(Summary!$B$54:$B$98,$B$3,Summary!C$54:C$98) -> -1.8558286 | D13: =SUMIF(Summary!$B$54:$B$98,$B$3,Summary!D$54:D$98) -> -2.6335427 | E13: =SUMIF(Summary!$B$54:$B$98,$B$3,Summary!E$54:E$98) -> -2.0502532 | F13: =SUMIF(Summary!$B$54:$B$98,$B$3,Summary!F$54:F$98) -> -2.1719032 | G13: =SUMIF(Summary!$B$54:$B$98,$B$3,Summary!G$54:G$98) -> -2.3220385 | H13: =SUMIF(Summary!$B$54:$B$98,$B$3,Summary!H$54:H$98) -> -2.4972152 | I13: =SUMIF(Summary!$B$54:$B$98,$B$3,Summary!I$54:I$98) -> -2.6952761 | J13: =SUMIF(Summary!$B$54:$B$98,$B$3,Summary!J$54:J$98) -> -2.9149301 | ... GT13: =SUMIF(Summary!$B$54:$B$98,$B$3,Summary!GT$54:GT$98) -> -7.5859042
A14: =A8 -> Oglekļa uzkrājums zemsedzes augu biomasā | B14: tons C ha⁻¹ | C14: =SUMIF(Summary!$B$102:$B$146,$B$3,Summary!C$102:C$146) -> 4.0885934 | D14: =SUMIF(Summary!$B$102:$B$146,$B$3,Summary!D$102:D$146) -> 4.0524646 | E14: =SUMIF(Summary!$B$102:$B$146,$B$3,Summary!E$102:E$146) -> 3.9932258 | F14: =SUMIF(Summary!$B$102:$B$146,$B$3,Summary!F$102:F$146) -> 3.9121881 | G14: =SUMIF(Summary!$B$102:$B$146,$B$3,Summary!G$102:G$146) -> 3.8110823 | H14: =SUMIF(Summary!$B$102:$B$146,$B$3,Summary!H$102:H$146) -> 3.6920179 | I14: =SUMIF(Summary!$B$102:$B$146,$B$3,Summary!I$102:I$146) -> 3.5574351 | J14: =SUMIF(Summary!$B$102:$B$146,$B$3,Summary!J$102:J$146) -> 3.4100479 | ... GT14: =SUMIF(Summary!$B$102:$B$146,$B$3,Summary!GT$102:GT$146) -> 1.5044115
A15: Oglekļa uzkrājuma izmaiņas zemsedzes augu biomasā | B15: tons CO₂ eq. ha⁻¹ yr⁻¹ | C15: =(C14-C8)*44/12 -> -9.9418244 | D15: =((D14-D8)*44/12-SUM($C15:C15)) -> -0.13247195 | E15: =((E14-E8)*44/12-SUM($C15:D15)) -> -0.21720922 | F15: =((F14-F8)*44/12-SUM($C15:E15)) -> -0.29713795 | G15: =((G14-G8)*44/12-SUM($C15:F15)) -> -0.37072139 | H15: =((H14-H8)*44/12-SUM($C15:G15)) -> -0.43656938 | I15: =((I14-I8)*44/12-SUM($C15:H15)) -> -0.49347031 | J15: =((J14-J8)*44/12-SUM($C15:I15)) -> -0.5404199 | K15: =((K14-K8)*44/12-SUM($C15:J15)) -> -0.57664622 | ... GT15: =((GT14-GT8)*44/12-SUM($C15:GS15)) -> -0.061536206
A16: Kopējās izmaksas | B16: € ha⁻¹ | C16: =SUMIF(Summary!$B$150:$B$194,$B$3,Summary!C$150:C$194) -> 951.83 | D16: =SUMIF(Summary!$B$150:$B$194,$B$3,Summary!D$150:D$194) -> 154.69 | E16: =SUMIF(Summary!$B$150:$B$194,$B$3,Summary!E$150:E$194) -> 154.69 | F16: =SUMIF(Summary!$B$150:$B$194,$B$3,Summary!F$150:F$194) -> 154.69 | G16: =SUMIF(Summary!$B$150:$B$194,$B$3,Summary!G$150:G$194) -> 0 | H16: =SUMIF(Summary!$B$150:$B$194,$B$3,Summary!H$150:H$194) -> 0 | I16: =SUMIF(Summary!$B$150:$B$194,$B$3,Summary!I$150:I$194) -> 0 | J16: =SUMIF(Summary!$B$150:$B$194,$B$3,Summary!J$150:J$194) -> 0 | ... GT16: =SUMIF(Summary!$B$150:$B$194,$B$3,Summary!GT$150:GT$194) -> 0
A17: Kopējie ieņēmumi | B17: € ha⁻¹ | C17: =SUMIF(Summary!$B$198:$B$242,$B$3,Summary!C$198:C$242) -> 0 | D17: =SUMIF(Summary!$B$198:$B$242,$B$3,Summary!D$198:D$242) -> 0 | E17: =SUMIF(Summary!$B$198:$B$242,$B$3,Summary!E$198:E$242) -> 0 | F17: =SUMIF(Summary!$B$198:$B$242,$B$3,Summary!F$198:F$242) -> 0 | G17: =SUMIF(Summary!$B$198:$B$242,$B$3,Summary!G$198:G$242) -> 0 | H17: =SUMIF(Summary!$B$198:$B$242,$B$3,Summary!H$198:H$242) -> 0 | I17: =SUMIF(Summary!$B$198:$B$242,$B$3,Summary!I$198:I$242) -> 0 | J17: =SUMIF(Summary!$B$198:$B$242,$B$3,Summary!J$198:J$242) -> 0 | ... GT17: =SUMIF(Summary!$B$198:$B$242,$B$3,Summary!GT$198:GT$242) -> 0
A18: Naudas plūsma | B18: € ha⁻¹ | C18: =SUM(C17,-C16) -> -951.83 | D18: =SUM(D17,-D16) -> -154.69 | E18: =SUM(E17,-E16) -> -154.69 | F18: =SUM(F17,-F16) -> -154.69 | G18: =SUM(G17,-G16) -> 0 | H18: =SUM(H17,-H16) -> 0 | I18: =SUM(I17,-I16) -> 0 | J18: =SUM(J17,-J16) -> 0 | ... GT18: =SUM(GT17,-GT16) -> 0
A19: SEG emisiju samazinājums | B19: tons CO₂ eq. ha⁻¹ yr⁻¹ | C19: =C7-C13+C15 -> -8.0859957 | D19: =D7-D13+D15 -> 2.5010707 | E19: =E7-E13+E15 -> 1.833044 | F19: =F7-F13+F15 -> 1.8747653 | G19: =G7-G13+G15 -> 1.9513171 | H19: =H7-H13+H15 -> 2.0606458 | I19: =I7-I13+I15 -> 2.2018058 | J19: =J7-J13+J15 -> 2.3745102 | ... GT19: =GT7-GT13+GT15 -> 7.524368
A20: SEG emisiju samazinājums ar biokurināmā aizstāšanas efektu | B20: tons CO₂ eq. ha⁻¹ yr⁻¹ | C20: =C6-C12+C15 -> -8.0859957 | D20: =D6-D12+D15 -> 2.5010707 | E20: =E6-E12+E15 -> 1.833044 | F20: =F6-F12+F15 -> 1.8747653 | G20: =G6-G12+G15 -> 1.9513171 | H20: =H6-H12+H15 -> 2.0606458 | I20: =I6-I12+I15 -> 2.2018058 | J20: =J6-J12+J15 -> 2.3745102 | ... GT20: =GT6-GT12+GT15 -> 8.6737362
A21: SEG emisiju samazinājums kumulatīvi | B21: tons CO₂ eq. ha⁻¹ | C21: =SUM($C19:C19) -> -8.0859957 | D21: =SUM($C19:D19) -> -5.584925 | E21: =SUM($C19:E19) -> -3.751881 | F21: =SUM($C19:F19) -> -1.8771158 | G21: =SUM($C19:G19) -> 0.074201344 | H21: =SUM($C19:H19) -> 2.1348471 | I21: =SUM($C19:I19) -> 4.3366529 | J21: =SUM($C19:J19) -> 6.7111631 | ... GT21: =SUM($C19:GT19) -> 738.24614
A22: SEG emisiju samazinājums kumulatīvi ar biokurināmo | B22: tons CO₂ eq. ha⁻¹ | C22: =SUM($C20:C20) -> -8.0859957 | D22: =SUM($C20:D20) -> -5.584925 | E22: =SUM($C20:E20) -> -3.751881 | F22: =SUM($C20:F20) -> -1.8771158 | G22: =SUM($C20:G20) -> 0.074201344 | H22: =SUM($C20:H20) -> 2.1348471 | I22: =SUM($C20:I20) -> 4.3366529 | J22: =SUM($C20:J20) -> 6.7111631 | ... GT22: =SUM($C20:GT20) -> 1310.6915
A24: SEG emisiju samazinājuma izmaksu aprēķins, diskontējot naudas plūsmu
A25: =A11 -> Parametrs | B25: =B11 -> Mērvienība | C25: =C11 -> 1 | D25: =D11 -> 2 | E25: =E11 -> 3 | F25: =F11 -> 4 | G25: =G11 -> 5 | H25: =H11 -> 6 | ... GT25: =GT11 -> 200
A26: Diskontētās izmaksas un ieņēmumi:
A27: 0 | B27: =B18 -> € ha⁻¹ | C27: =C$18/(1+$A27)^C$25 -> -951.83 | D27: =D$18/(1+$A27)^D$25 -> -154.69 | E27: =E$18/(1+$A27)^E$25 -> -154.69 | F27: =F$18/(1+$A27)^F$25 -> -154.69 | G27: =G$18/(1+$A27)^G$25 -> 0 | H27: =H$18/(1+$A27)^H$25 -> 0 | I27: =I$18/(1+$A27)^I$25 -> 0 | J27: =J$18/(1+$A27)^J$25 -> 0 | ... GT27: =GT$18/(1+$A27)^GT$25 -> 0
A28: 0.025 | B28: =B27 -> € ha⁻¹ | C28: =C$18/(1+$A28)^C$25 -> -928.61463 | D28: =D$18/(1+$A28)^D$25 -> -147.23617 | E28: =E$18/(1+$A28)^E$25 -> -143.64504 | F28: =F$18/(1+$A28)^F$25 -> -140.14151 | G28: =G$18/(1+$A28)^G$25 -> 0 | H28: =H$18/(1+$A28)^H$25 -> 0 | I28: =I$18/(1+$A28)^I$25 -> 0 | J28: =J$18/(1+$A28)^J$25 -> 0 | ... GT28: =GT$18/(1+$A28)^GT$25 -> 0
A29: 0.05 | B29: =B28 -> € ha⁻¹ | C29: =C$18/(1+$A29)^C$25 -> -906.50476 | D29: =D$18/(1+$A29)^D$25 -> -140.30839 | E29: =E$18/(1+$A29)^E$25 -> -133.62704 | F29: =F$18/(1+$A29)^F$25 -> -127.26385 | G29: =G$18/(1+$A29)^G$25 -> 0 | H29: =H$18/(1+$A29)^H$25 -> 0 | I29: =I$18/(1+$A29)^I$25 -> 0 | J29: =J$18/(1+$A29)^J$25 -> 0 | ... GT29: =GT$18/(1+$A29)^GT$25 -> 0
A30: 0.075 | B30: =B29 -> € ha⁻¹ | C30: =C$18/(1+$A30)^C$25 -> -885.42326 | D30: =D$18/(1+$A30)^D$25 -> -133.8583 | E30: =E$18/(1+$A30)^E$25 -> -124.51935 | F30: =F$18/(1+$A30)^F$25 -> -115.83195 | G30: =G$18/(1+$A30)^G$25 -> 0 | H30: =H$18/(1+$A30)^H$25 -> 0 | I30: =I$18/(1+$A30)^I$25 -> 0 | J30: =J$18/(1+$A30)^J$25 -> 0 | ... GT30: =GT$18/(1+$A30)^GT$25 -> 0
A31: 0.1 | B31: =B30 -> € ha⁻¹ | C31: =C$18/(1+$A31)^C$25 -> -865.3 | D31: =D$18/(1+$A31)^D$25 -> -127.84298 | E31: =E$18/(1+$A31)^E$25 -> -116.22089 | F31: =F$18/(1+$A31)^F$25 -> -105.65535 | G31: =G$18/(1+$A31)^G$25 -> 0 | H31: =H$18/(1+$A31)^H$25 -> 0 | I31: =I$18/(1+$A31)^I$25 -> 0 | J31: =J$18/(1+$A31)^J$25 -> 0 | ... GT31: =GT$18/(1+$A31)^GT$25 -> 0
A32: Diskontētā finanšu plūsma
A33: =A27 -> 0 | B33: =B27 -> € ha⁻¹ | C33: =SUM($C27:C27) -> -951.83 | D33: =SUM($C27:D27) -> -1106.52 | E33: =SUM($C27:E27) -> -1261.21 | F33: =SUM($C27:F27) -> -1415.9 | G33: =SUM($C27:G27) -> -1415.9 | H33: =SUM($C27:H27) -> -1415.9 | I33: =SUM($C27:I27) -> -1415.9 | J33: =SUM($C27:J27) -> -1415.9 | ... GT33: =SUM($C27:GT27) -> 64079.458
A34: =A28 -> 0.025 | B34: =B28 -> € ha⁻¹ | C34: =SUM($C28:C28) -> -928.61463 | D34: =SUM($C28:D28) -> -1075.8508 | E34: =SUM($C28:E28) -> -1219.4958 | F34: =SUM($C28:F28) -> -1359.6374 | G34: =SUM($C28:G28) -> -1359.6374 | H34: =SUM($C28:H28) -> -1359.6374 | I34: =SUM($C28:I28) -> -1359.6374 | J34: =SUM($C28:J28) -> -1359.6374 | ... GT34: =SUM($C28:GT28) -> 5923.2979
A35: =A29 -> 0.05 | B35: =B29 -> € ha⁻¹ | C35: =SUM($C29:C29) -> -906.50476 | D35: =SUM($C29:D29) -> -1046.8132 | E35: =SUM($C29:E29) -> -1180.4402 | F35: =SUM($C29:F29) -> -1307.704 | G35: =SUM($C29:G29) -> -1307.704 | H35: =SUM($C29:H29) -> -1307.704 | I35: =SUM($C29:I29) -> -1307.704 | J35: =SUM($C29:J29) -> -1307.704 | ... GT35: =SUM($C29:GT29) -> 493.8917
A36: =A30 -> 0.075 | B36: =B30 -> € ha⁻¹ | C36: =SUM($C30:C30) -> -885.42326 | D36: =SUM($C30:D30) -> -1019.2816 | E36: =SUM($C30:E30) -> -1143.8009 | F36: =SUM($C30:F30) -> -1259.6329 | G36: =SUM($C30:G30) -> -1259.6329 | H36: =SUM($C30:H30) -> -1259.6329 | I36: =SUM($C30:I30) -> -1259.6329 | J36: =SUM($C30:J30) -> -1259.6329 | ... GT36: =SUM($C30:GT30) -> -667.33883
A37: =A31 -> 0.1 | B37: =B31 -> € ha⁻¹ | C37: =SUM($C31:C31) -> -865.3 | D37: =SUM($C31:D31) -> -993.14298 | E37: =SUM($C31:E31) -> -1109.3639 | F37: =SUM($C31:F31) -> -1215.0192 | G37: =SUM($C31:G31) -> -1215.0192 | H37: =SUM($C31:H31) -> -1215.0192 | I37: =SUM($C31:I31) -> -1215.0192 | J37: =SUM($C31:J31) -> -1215.0192 | ... GT37: =SUM($C31:GT31) -> -987.20547
A38: SEG emisiju samazinājuma izmaksas, atkarībā no diskonta likmes:
A39: =A33 -> 0 | B39: =B55 -> € tonna⁻¹ CO₂ ekv. | C39: =IFERROR(-C33/C$21,"") -> -117.71339 | D39: =IFERROR(-D33/D$21,"") -> -198.12621 | E39: =IFERROR(-E33/E$21,"") -> -336.15405 | F39: =IFERROR(-F33/F$21,"") -> -754.29551 | G39: =IFERROR(-G33/G$21,"") -> 19081.865 | H39: =IFERROR(-H33/H$21,"") -> 663.2325 | I39: =IFERROR(-I33/I$21,"") -> 326.49604 | J39: =IFERROR(-J33/J$21,"") -> 210.97684 | ... GT39: =IFERROR(-GT33/GT$21,"") -> -86.799584
A40: =A34 -> 0.025 | B40: =B39 -> € tonna⁻¹ CO₂ ekv. | C40: =IFERROR(-C34/C$21,"") -> -114.84234 | D40: =IFERROR(-D34/D$21,"") -> -192.63478 | E40: =IFERROR(-E34/E$21,"") -> -325.03585 | F40: =IFERROR(-F34/F$21,"") -> -724.32258 | G40: =IFERROR(-G34/G$21,"") -> 18323.622 | H40: =IFERROR(-H34/H$21,"") -> 636.87809 | I40: =IFERROR(-I34/I$21,"") -> 313.52229 | J40: =IFERROR(-J34/J$21,"") -> 202.5934 | ... GT40: =IFERROR(-GT34/GT$21,"") -> -8.023473
A41: =A35 -> 0.05 | B41: =B40 -> € tonna⁻¹ CO₂ ekv. | C41: =IFERROR(-C35/C$21,"") -> -112.10799 | D41: =IFERROR(-D35/D$21,"") -> -187.43549 | E41: =IFERROR(-E35/E$21,"") -> -314.62623 | F41: =IFERROR(-F35/F$21,"") -> -696.65603 | G41: =IFERROR(-G35/G$21,"") -> 17623.724 | H41: =IFERROR(-H35/H$21,"") -> 612.55161 | I41: =IFERROR(-I35/I$21,"") -> 301.54685 | J41: =IFERROR(-J35/J$21,"") -> 194.85505 | ... GT41: =IFERROR(-GT35/GT$21,"") -> -0.66900682
A42: =A36 -> 0.075 | B42: =B41 -> € tonna⁻¹ CO₂ ekv. | C42: =IFERROR(-C36/C$21,"") -> -109.50083 | D42: =IFERROR(-D36/D$21,"") -> -182.50586 | E42: =IFERROR(-E36/E$21,"") -> -304.86065 | F42: =IFERROR(-F36/F$21,"") -> -671.04697 | G42: =IFERROR(-G36/G$21,"") -> 16975.877 | H42: =IFERROR(-H36/H$21,"") -> 590.03422 | I42: =IFERROR(-I36/I$21,"") -> 290.46199 | J42: =IFERROR(-J36/J$21,"") -> 187.69218 | ... GT42: =IFERROR(-GT36/GT$21,"") -> 0.90395167
...

Sheet Summary
A1: Summary of GHG emissions
A2: No | B2: Sheet | C2: 1 | D2: 2 | E2: 3 | F2: 4 | G2: 5 | H2: 6 | I2: 7 | J2: 8 | K2: 9 | L2: 10 | M2: 11 | N2: 12 | O2: 13 | P2: 14 | Q2: 15 | R2: 16 | S2: 17 | T2: 18 | U2: 19 | V2: 20 | W2: 21 | X2: 22 | Y2: 23 | Z2: 24 | AA2: 25 | AB2: 26 | AC2: 27 | AD2: 28 | AE2: 29 | AF2: 30 | AG2: 31 | AH2: 32 | AI2: 33 | AJ2: 34 | AK2: 35 | AL2: 36 | AM2: 37 | AN2: 38 | AO2: 39 | AP2: 40 | AQ2: 41 | AR2: 42 | AS2: 43 | AT2: 44 | AU2: 45 | AV2: 46 | AW2: 47 | AX2: 48 | AY2: 49 | AZ2: 50 | BA2: 51 | BB2: 52 | BC2: 53 | BD2: 54 | BE2: 55 | BF2: 56 | BG2: 57 | BH2: 58 | BI2: 59 | BJ2: 60 | BK2: 61 | BL2: 62 | BM2: 63 | BN2: 64 | BO2: 65 | BP2: 66 | BQ2: 67 | BR2: 68 | BS2: 69 | BT2: 70 | BU2: 71 | BV2: 72 | BW2: 73 | BX2: 74 | BY2: 75 | BZ2: 76 | CA2: 77 | CB2: 78 | CC2: 79 | CD2: 80 | CE2: 81 | CF2: 82 | CG2: 83 | CH2: 84 | CI2: 85 | CJ2: 86 | CK2: 87 | CL2: 88 | CM2: 89 | CN2: 90 | CO2: 91 | CP2: 92 | CQ2: 93 | CR2: 94 | CS2: 95 | CT2: 96 | CU2: 97 | CV2: 98 | CW2: 99 | CX2: 100 | CY2: 101 | CZ2: 102 | DA2: 103 | DB2: 104 | DC2: 105 | DD2: 106 | DE2: 107 | DF2: 108 | DG2: 109 | DH2: 110 | DI2: 111 | DJ2: 112 | DK2: 113 | DL2: 114 | DM2: 115 | DN2: 116 | DO2: 117 | DP2: 118 | DQ2: 119 | DR2: 120 | DS2: 121 | DT2: 122 | DU2: 123 | DV2: 124 | DW2: 125 | DX2: 126 | DY2: 127 | DZ2: 128 | EA2: 129 | EB2: 130 | EC2: 131 | ED2: 132 | EE2: 133 | EF2: 134 | EG2: 135 | EH2: 136 | EI2: 137 | EJ2: 138 | EK2: 139 | EL2: 140 | EM2: 141 | EN2: 142 | EO2: 143 | EP2: 144 | EQ2: 145 | ER2: 146 | ES2: 147 | ET2: 148 | EU2: 149 | EV2: 150 | EW2: 151 | EX2: 152 | EY2: 153 | EZ2: 154 | FA2: 155 | FB2: 156 | FC2: 157 | FD2: 158 | FE2: 159 | FF2: 160 | FG2: 161 | FH2: 162 | FI2: 163 | FJ2: 164 | FK2: 165 | FL2: 166 | FM2: 167 | FN2: 168 | FO2: 169 | FP2: 170 | FQ2: 171 | FR2: 172 | FS2: 173 | FT2: 174 | FU2: 175 | FV2: 176 | FW2: 177 | FX2: 178 | FY2: 179 | FZ2: 180 | GA2: 181 | GB2: 182 | GC2: 183 | GD2: 184 | GE2: 185 | GF2: 186 | GG2: 187 | GH2: 188 | GI2: 189 | GJ2: 190 | GK2: 191 | GL2: 192 | GM2: 193 | GN2: 194 | GO2: 195 | GP2: 196 | GQ2: 197 | GR2: 198 | GS2: 199 | GT2: 200
A3: 6 | B3: CL_O_D | C3: 8.4606644 | D3: 8.4606644 | E3: 8.4606644 | F3: 8.4606644 | G3: 8.4606644 | H3: 8.4606644 | I3: 8.4606644 | J3: 8.4606644 | K3: 8.4606644 | L3: 8.4606644 | M3: 8.4606644 | N3: 8.4606644 | O3: 8.4606644 | P3: 8.4606644 | Q3: 8.4606644 | R3: 8.4606644 | S3: 8.4606644 | T3: 8.4606644 | U3: 8.4606644 | V3: 8.4606644 | W3: 8.4606644 | X3: 8.4606644 | Y3: 8.4606644 | Z3: 8.4606644 | AA3: 8.4606644 | AB3: 8.4606644 | AC3: 8.4606644 | AD3: 8.4606644 | AE3: 8.4606644 | AF3: 8.4606644 | AG3: 8.4606644 | AH3: 8.4606644 | AI3: 8.4606644 | AJ3: 8.4606644 | AK3: 8.4606644 | AL3: 8.4606644 | AM3: 8.4606644 | AN3: 8.4606644 | AO3: 8.4606644 | AP3: 8.4606644 | AQ3: 8.4606644 | AR3: 8.4606644 | AS3: 8.4606644 | AT3: 8.4606644 | AU3: 8.4606644 | AV3: 8.4606644 | AW3: 8.4606644 | AX3: 8.4606644 | AY3: 8.4606644 | AZ3: 8.4606644 | BA3: 8.4606644 | BB3: 8.4606644 | BC3: 8.4606644 | BD3: 8.4606644 | BE3: 8.4606644 | BF3: 8.4606644 | BG3: 8.4606644 | BH3: 8.4606644 | BI3: 8.4606644 | BJ3: 8.4606644 | BK3: 8.4606644 | BL3: 8.4606644 | BM3: 8.4606644 | BN3: 8.4606644 | BO3: 8.4606644 | BP3: 8.4606644 | BQ3: 8.4606644 | BR3: 8.4606644 | BS3: 8.4606644 | BT3: 8.4606644 | BU3: 8.4606644 | BV3: 8.4606644 | BW3: 8.4606644 | BX3: 8.4606644 | BY3: 8.4606644 | BZ3: 8.4606644 | CA3: 8.4606644 | CB3: 8.4606644 | CC3: 8.4606644 | CD3: 8.4606644 | CE3: 8.4606644 | CF3: 8.4606644 | CG3: 8.4606644 | CH3: 8.4606644 | CI3: 8.4606644 | CJ3: 8.4606644 | CK3: 8.4606644 | CL3: 8.4606644 | CM3: 8.4606644 | CN3: 8.4606644 | CO3: 8.4606644 | CP3: 8.4606644 | CQ3: 8.4606644 | CR3: 8.4606644 | CS3: 8.4606644 | CT3: 8.4606644 | CU3: 8.4606644 | CV3: 8.4606644 | CW3: 8.4606644 | CX3: 8.4606644 | CY3: 8.4606644 | CZ3: 8.4606644 | DA3: 8.4606644 | DB3: 8.4606644 | DC3: 8.4606644 | DD3: 8.4606644 | DE3: 8.4606644 | DF3: 8.4606644 | DG3: 8.4606644 | DH3: 8.4606644 | DI3: 8.4606644 | DJ3: 8.4606644 | DK3: 8.4606644 | DL3: 8.4606644 | DM3: 8.4606644 | DN3: 8.4606644 | DO3: 8.4606644 | DP3: 8.4606644 | DQ3: 8.4606644 | DR3: 8.4606644 | DS3: 8.4606644 | DT3: 8.4606644 | DU3: 8.4606644 | DV3: 8.4606644 | DW3: 8.4606644 | DX3: 8.4606644 | DY3: 8.4606644 | DZ3: 8.4606644 | EA3: 8.4606644 | EB3: 8.4606644 | EC3: 8.4606644 | ED3: 8.4606644 | EE3: 8.4606644 | EF3: 8.4606644 | EG3: 8.4606644 | EH3: 8.4606644 | EI3: 8.4606644 | EJ3: 8.4606644 | EK3: 8.4606644 | EL3: 8.4606644 | EM3: 8.4606644 | EN3: 8.4606644 | EO3: 8.4606644 | EP3: 8.4606644 | EQ3: 8.4606644 | ER3: 8.4606644 | ES3: 8.4606644 | ET3: 8.4606644 | EU3: 8.4606644 | EV3: 8.4606644 | EW3: 8.4606644 | EX3: 8.4606644 | EY3: 8.4606644 | EZ3: 8.4606644 | FA3: 8.4606644 | FB3: 8.4606644 | FC3: 8.4606644 | FD3: 8.4606644 | FE3: 8.4606644 | FF3: 8.4606644 | FG3: 8.4606644 | FH3: 8.4606644 | FI3: 8.4606644 | FJ3: 8.4606644 | FK3: 8.4606644 | FL3: 8.4606644 | FM3: 8.4606644 | FN3: 8.4606644 | FO3: 8.4606644 | FP3: 8.4606644 | FQ3: 8.4606644 | FR3: 8.4606644 | FS3: 8.4606644 | FT3: 8.4606644 | FU3: 8.4606644 | FV3: 8.4606644 | FW3: 8.4606644 | FX3: 8.4606644 | FY3: 8.4606644 | FZ3: 8.4606644 | GA3: 8.4606644 | GB3: 8.4606644 | GC3: 8.4606644 | GD3: 8.4606644 | GE3: 8.4606644 | GF3: 8.4606644 | GG3: 8.4606644 | GH3: 8.4606644 | GI3: 8.4606644 | GJ3: 8.4606644 | GK3: 8.4606644 | GL3: 8.4606644 | GM3: 8.4606644 | GN3: 8.4606644 | GO3: 8.4606644 | GP3: 8.4606644 | GQ3: 8.4606644 | GR3: 8.4606644 | GS3: 8.4606644 | GT3: 8.4606644
A4: 7 | B4: GL_O_D | C4: 7.2665247 | D4: 7.2665247 | E4: 7.2665247 | F4: 7.2665247 | G4: 7.2665247 | H4: 7.2665247 | I4: 7.2665247 | J4: 7.2665247 | K4: 7.2665247 | L4: 7.2665247 | M4: 7.2665247 | N4: 7.2665247 | O4: 7.2665247 | P4: 7.2665247 | Q4: 7.2665247 | R4: 7.2665247 | S4: 7.2665247 | T4: 7.2665247 | U4: 7.2665247 | V4: 7.2665247 | W4: 7.2665247 | X4: 7.2665247 | Y4: 7.2665247 | Z4: 7.2665247 | AA4: 7.2665247 | AB4: 7.2665247 | AC4: 7.2665247 | AD4: 7.2665247 | AE4: 7.2665247 | AF4: 7.2665247 | AG4: 7.2665247 | AH4: 7.2665247 | AI4: 7.2665247 | AJ4: 7.2665247 | AK4: 7.2665247 | AL4: 7.2665247 | AM4: 7.2665247 | AN4: 7.2665247 | AO4: 7.2665247 | AP4: 7.2665247 | AQ4: 7.2665247 | AR4: 7.2665247 | AS4: 7.2665247 | AT4: 7.2665247 | AU4: 7.2665247 | AV4: 7.2665247 | AW4: 7.2665247 | AX4: 7.2665247 | AY4: 7.2665247 | AZ4: 7.2665247 | BA4: 7.2665247 | BB4: 7.2665247 | BC4: 7.2665247 | BD4: 7.2665247 | BE4: 7.2665247 | BF4: 7.2665247 | BG4: 7.2665247 | BH4: 7.2665247 | BI4: 7.2665247 | BJ4: 7.2665247 | BK4: 7.2665247 | BL4: 7.2665247 | BM4: 7.2665247 | BN4: 7.2665247 | BO4: 7.2665247 | BP4: 7.2665247 | BQ4: 7.2665247 | BR4: 7.2665247 | BS4: 7.2665247 | BT4: 7.2665247 | BU4: 7.2665247 | BV4: 7.2665247 | BW4: 7.2665247 | BX4: 7.2665247 | BY4: 7.2665247 | BZ4: 7.2665247 | CA4: 7.2665247 | CB4: 7.2665247 | CC4: 7.2665247 | CD4: 7.2665247 | CE4: 7.2665247 | CF4: 7.2665247 | CG4: 7.2665247 | CH4: 7.2665247 | CI4: 7.2665247 | CJ4: 7.2665247 | CK4: 7.2665247 | CL4: 7.2665247 | CM4: 7.2665247 | CN4: 7.2665247 | CO4: 7.2665247 | CP4: 7.2665247 | CQ4: 7.2665247 | CR4: 7.2665247 | CS4: 7.2665247 | CT4: 7.2665247 | CU4: 7.2665247 | CV4: 7.2665247 | CW4: 7.2665247 | CX4: 7.2665247 | CY4: 7.2665247 | CZ4: 7.2665247 | DA4: 7.2665247 | DB4: 7.2665247 | DC4: 7.2665247 | DD4: 7.2665247 | DE4: 7.2665247 | DF4: 7.2665247 | DG4: 7.2665247 | DH4: 7.2665247 | DI4: 7.2665247 | DJ4: 7.2665247 | DK4: 7.2665247 | DL4: 7.2665247 | DM4: 7.2665247 | DN4: 7.2665247 | DO4: 7.2665247 | DP4: 7.2665247 | DQ4: 7.2665247 | DR4: 7.2665247 | DS4: 7.2665247 | DT4: 7.2665247 | DU4: 7.2665247 | DV4: 7.2665247 | DW4: 7.2665247 | DX4: 7.2665247 | DY4: 7.2665247 | DZ4: 7.2665247 | EA4: 7.2665247 | EB4: 7.2665247 | EC4: 7.2665247 | ED4: 7.2665247 | EE4: 7.2665247 | EF4: 7.2665247 | EG4: 7.2665247 | EH4: 7.2665247 | EI4: 7.2665247 | EJ4: 7.2665247 | EK4: 7.2665247 | EL4: 7.2665247 | EM4: 7.2665247 | EN4: 7.2665247 | EO4: 7.2665247 | EP4: 7.2665247 | EQ4: 7.2665247 | ER4: 7.2665247 | ES4: 7.2665247 | ET4: 7.2665247 | EU4: 7.2665247 | EV4: 7.2665247 | EW4: 7.2665247 | EX4: 7.2665247 | EY4: 7.2665247 | EZ4: 7.2665247 | FA4: 7.2665247 | FB4: 7.2665247 | FC4: 7.2665247 | FD4: 7.2665247 | FE4: 7.2665247 | FF4: 7.2665247 | FG4: 7.2665247 | FH4: 7.2665247 | FI4: 7.2665247 | FJ4: 7.2665247 | FK4: 7.2665247 | FL4: 7.2665247 | FM4: 7.2665247 | FN4: 7.2665247 | FO4: 7.2665247 | FP4: 7.2665247 | FQ4: 7.2665247 | FR4: 7.2665247 | FS4: 7.2665247 | FT4: 7.2665247 | FU4: 7.2665247 | FV4: 7.2665247 | FW4: 7.2665247 | FX4: 7.2665247 | FY4: 7.2665247 | FZ4: 7.2665247 | GA4: 7.2665247 | GB4: 7.2665247 | GC4: 7.2665247 | GD4: 7.2665247 | GE4: 7.2665247 | GF4: 7.2665247 | GG4: 7.2665247 | GH4: 7.2665247 | GI4: 7.2665247 | GJ4: 7.2665247 | GK4: 7.2665247 | GL4: 7.2665247 | GM4: 7.2665247 | GN4: 7.2665247 | GO4: 7.2665247 | GP4: 7.2665247 | GQ4: 7.2665247 | GR4: 7.2665247 | GS4: 7.2665247 | GT4: 7.2665247
A5: 8 | B5: CL_M_D | C5: 0 | D5: 0 | E5: 0 | F5: 0 | G5: 0 | H5: 0 | I5: 0 | J5: 0 | K5: 0 | L5: 0 | M5: 0 | N5: 0 | O5: 0 | P5: 0 | Q5: 0 | R5: 0 | S5: 0 | T5: 0 | U5: 0 | V5: 0 | W5: 0 | X5: 0 | Y5: 0 | Z5: 0 | AA5: 0 | AB5: 0 | AC5: 0 | AD5: 0 | AE5: 0 | AF5: 0 | AG5: 0 | AH5: 0 | AI5: 0 | AJ5: 0 | AK5: 0 | AL5: 0 | AM5: 0 | AN5: 0 | AO5: 0 | AP5: 0 | AQ5: 0 | AR5: 0 | AS5: 0 | AT5: 0 | AU5: 0 | AV5: 0 | AW5: 0 | AX5: 0 | AY5: 0 | AZ5: 0 | BA5: 0 | BB5: 0 | BC5: 0 | BD5: 0 | BE5: 0 | BF5: 0 | BG5: 0 | BH5: 0 | BI5: 0 | BJ5: 0 | BK5: 0 | BL5: 0 | BM5: 0 | BN5: 0 | BO5: 0 | BP5: 0 | BQ5: 0 | BR5: 0 | BS5: 0 | BT5: 0 | BU5: 0 | BV5: 0 | BW5: 0 | BX5: 0 | BY5: 0 | BZ5: 0 | CA5: 0 | CB5: 0 | CC5: 0 | CD5: 0 | CE5: 0 | CF5: 0 | CG5: 0 | CH5: 0 | CI5: 0 | CJ5: 0 | CK5: 0 | CL5: 0 | CM5: 0 | CN5: 0 | CO5: 0 | CP5: 0 | CQ5: 0 | CR5: 0 | CS5: 0 | CT5: 0 | CU5: 0 | CV5: 0 | CW5: 0 | CX5: 0 | CY5: 0 | CZ5: 0 | DA5: 0 | DB5: 0 | DC5: 0 | DD5: 0 | DE5: 0 | DF5: 0 | DG5: 0 | DH5: 0 | DI5: 0 | DJ5: 0 | DK5: 0 | DL5: 0 | DM5: 0 | DN5: 0 | DO5: 0 | DP5: 0 | DQ5: 0 | DR5: 0 | DS5: 0 | DT5: 0 | DU5: 0 | DV5: 0 | DW5: 0 | DX5: 0 | DY5: 0 | DZ5: 0 | EA5: 0 | EB5: 0 | EC5: 0 | ED5: 0 | EE5: 0 | EF5: 0 | EG5: 0 | EH5: 0 | EI5: 0 | EJ5: 0 | EK5: 0 | EL5: 0 | EM5: 0 | EN5: 0 | EO5: 0 | EP5: 0 | EQ5: 0 | ER5: 0 | ES5: 0 | ET5: 0 | EU5: 0 | EV5: 0 | EW5: 0 | EX5: 0 | EY5: 0 | EZ5: 0 | FA5: 0 | FB5: 0 | FC5: 0 | FD5: 0 | FE5: 0 | FF5: 0 | FG5: 0 | FH5: 0 | FI5: 0 | FJ5: 0 | FK5: 0 | FL5: 0 | FM5: 0 | FN5: 0 | FO5: 0 | FP5: 0 | FQ5: 0 | FR5: 0 | FS5: 0 | FT5: 0 | FU5: 0 | FV5: 0 | FW5: 0 | FX5: 0 | FY5: 0 | FZ5: 0 | GA5: 0 | GB5: 0 | GC5: 0 | GD5: 0 | GE5: 0 | GF5: 0 | GG5: 0 | GH5: 0 | GI5: 0 | GJ5: 0 | GK5: 0 | GL5: 0 | GM5: 0 | GN5: 0 | GO5: 0 | GP5: 0 | GQ5: 0 | GR5: 0 | GS5: 0 | GT5: 0
A6: 9 | B6: GL_M_D | C6: 0 | D6: 0 | E6: 0 | F6: 0 | G6: 0 | H6: 0 | I6: 0 | J6: 0 | K6: 0 | L6: 0 | M6: 0 | N6: 0 | O6: 0 | P6: 0 | Q6: 0 | R6: 0 | S6: 0 | T6: 0 | U6: 0 | V6: 0 | W6: 0 | X6: 0 | Y6: 0 | Z6: 0 | AA6: 0 | AB6: 0 | AC6: 0 | AD6: 0 | AE6: 0 | AF6: 0 | AG6: 0 | AH6: 0 | AI6: 0 | AJ6: 0 | AK6: 0 | AL6: 0 | AM6: 0 | AN6: 0 | AO6: 0 | AP6: 0 | AQ6: 0 | AR6: 0 | AS6: 0 | AT6: 0 | AU6: 0 | AV6: 0 | AW6: 0 | AX6: 0 | AY6: 0 | AZ6: 0 | BA6: 0 | BB6: 0 | BC6: 0 | BD6: 0 | BE6: 0 | BF6: 0 | BG6: 0 | BH6: 0 | BI6: 0 | BJ6: 0 | BK6: 0 | BL6: 0 | BM6: 0 | BN6: 0 | BO6: 0 | BP6: 0 | BQ6: 0 | BR6: 0 | BS6: 0 | BT6: 0 | BU6: 0 | BV6: 0 | BW6: 0 | BX6: 0 | BY6: 0 | BZ6: 0 | CA6: 0 | CB6: 0 | CC6: 0 | CD6: 0 | CE6: 0 | CF6: 0 | CG6: 0 | CH6: 0 | CI6: 0 | CJ6: 0 | CK6: 0 | CL6: 0 | CM6: 0 | CN6: 0 | CO6: 0 | CP6: 0 | CQ6: 0 | CR6: 0 | CS6: 0 | CT6: 0 | CU6: 0 | CV6: 0 | CW6: 0 | CX6: 0 | CY6: 0 | CZ6: 0 | DA6: 0 | DB6: 0 | DC6: 0 | DD6: 0 | DE6: 0 | DF6: 0 | DG6: 0 | DH6: 0 | DI6: 0 | DJ6: 0 | DK6: 0 | DL6: 0 | DM6: 0 | DN6: 0 | DO6: 0 | DP6: 0 | DQ6: 0 | DR6: 0 | DS6: 0 | DT6: 0 | DU6: 0 | DV6: 0 | DW6: 0 | DX6: 0 | DY6: 0 | DZ6: 0 | EA6: 0 | EB6: 0 | EC6: 0 | ED6: 0 | EE6: 0 | EF6: 0 | EG6: 0 | EH6: 0 | EI6: 0 | EJ6: 0 | EK6: 0 | EL6: 0 | EM6: 0 | EN6: 0 | EO6: 0 | EP6: 0 | EQ6: 0 | ER6: 0 | ES6: 0 | ET6: 0 | EU6: 0 | EV6: 0 | EW6: 0 | EX6: 0 | EY6: 0 | EZ6: 0 | FA6: 0 | FB6: 0 | FC6: 0 | FD6: 0 | FE6: 0 | FF6: 0 | FG6: 0 | FH6: 0 | FI6: 0 | FJ6: 0 | FK6: 0 | FL6: 0 | FM6: 0 | FN6: 0 | FO6: 0 | FP6: 0 | FQ6: 0 | FR6: 0 | FS6: 0 | FT6: 0 | FU6: 0 | FV6: 0 | FW6: 0 | FX6: 0 | FY6: 0 | FZ6: 0 | GA6: 0 | GB6: 0 | GC6: 0 | GD6: 0 | GE6: 0 | GF6: 0 | GG6: 0 | GH6: 0 | GI6: 0 | GJ6: 0 | GK6: 0 | GL6: 0 | GM6: 0 | GN6: 0 | GO6: 0 | GP6: 0 | GQ6: 0 | GR6: 0 | GS6: 0 | GT6: 0
A7: 10 | B7: WL_O_W | C7: 8.4751788 | D7: 8.4751788 | E7: 8.4751788 | F7: 8.4751788 | G7: 8.4751788 | H7: 8.4751788 | I7: 8.4751788 | J7: 8.4751788 | K7: 8.4751788 | L7: 8.4751788 | M7: 8.4751788 | N7: 8.4751788 | O7: 8.4751788 | P7: 8.4751788 | Q7: 8.4751788 | R7: 8.4751788 | S7: 8.4751788 | T7: 8.4751788 | U7: 8.4751788 | V7: 8.4751788 | W7: 8.4751788 | X7: 8.4751788 | Y7: 8.4751788 | Z7: 8.4751788 | AA7: 8.4751788 | AB7: 8.4751788 | AC7: 8.4751788 | AD7: 8.4751788 | AE7: 8.4751788 | AF7: 8.4751788 | AG7: 8.4751788 | AH7: 8.4751788 | AI7: 8.4751788 | AJ7: 8.4751788 | AK7: 8.4751788 | AL7: 8.4751788 | AM7: 8.4751788 | AN7: 8.4751788 | AO7: 8.4751788 | AP7: 8.4751788 | AQ7: 8.4751788 | AR7: 8.4751788 | AS7: 8.4751788 | AT7: 8.4751788 | AU7: 8.4751788 | AV7: 8.4751788 | AW7: 8.4751788 | AX7: 8.4751788 | AY7: 8.4751788 | AZ7: 8.4751788 | BA7: 8.4751788 | BB7: 8.4751788 | BC7: 8.4751788 | BD7: 8.4751788 | BE7: 8.4751788 | BF7: 8.4751788 | BG7: 8.4751788 | BH7: 8.4751788 | BI7: 8.4751788 | BJ7: 8.4751788 | BK7: 8.4751788 | BL7: 8.4751788 | BM7: 8.4751788 | BN7: 8.4751788 | BO7: 8.4751788 | BP7: 8.4751788 | BQ7: 8.4751788 | BR7: 8.4751788 | BS7: 8.4751788 | BT7: 8.4751788 | BU7: 8.4751788 | BV7: 8.4751788 | BW7: 8.4751788 | BX7: 8.4751788 | BY7: 8.4751788 | BZ7: 8.4751788 | CA7: 8.4751788 | CB7: 8.4751788 | CC7: 8.4751788 | CD7: 8.4751788 | CE7: 8.4751788 | CF7: 8.4751788 | CG7: 8.4751788 | CH7: 8.4751788 | CI7: 8.4751788 | CJ7: 8.4751788 | CK7: 8.4751788 | CL7: 8.4751788 | CM7: 8.4751788 | CN7: 8.4751788 | CO7: 8.4751788 | CP7: 8.4751788 | CQ7: 8.4751788 | CR7: 8.4751788 | CS7: 8.4751788 | CT7: 8.4751788 | CU7: 8.4751788 | CV7: 8.4751788 | CW7: 8.4751788 | CX7: 8.4751788 | CY7: 8.4751788 | CZ7: 8.4751788 | DA7: 8.4751788 | DB7: 8.4751788 | DC7: 8.4751788 | DD7: 8.4751788 | DE7: 8.4751788 | DF7: 8.4751788 | DG7: 8.4751788 | DH7: 8.4751788 | DI7: 8.4751788 | DJ7: 8.4751788 | DK7: 8.4751788 | DL7: 8.4751788 | DM7: 8.4751788 | DN7: 8.4751788 | DO7: 8.4751788 | DP7: 8.4751788 | DQ7: 8.4751788 | DR7: 8.4751788 | DS7: 8.4751788 | DT7: 8.4751788 | DU7: 8.4751788 | DV7: 8.4751788 | DW7: 8.4751788 | DX7: 8.4751788 | DY7: 8.4751788 | DZ7: 8.4751788 | EA7: 8.4751788 | EB7: 8.4751788 | EC7: 8.4751788 | ED7: 8.4751788 | EE7: 8.4751788 | EF7: 8.4751788 | EG7: 8.4751788 | EH7: 8.4751788 | EI7: 8.4751788 | EJ7: 8.4751788 | EK7: 8.4751788 | EL7: 8.4751788 | EM7: 8.4751788 | EN7: 8.4751788 | EO7: 8.4751788 | EP7: 8.4751788 | EQ7: 8.4751788 | ER7: 8.4751788 | ES7: 8.4751788 | ET7: 8.4751788 | EU7: 8.4751788 | EV7: 8.4751788 | EW7: 8.4751788 | EX7: 8.4751788 | EY7: 8.4751788 | EZ7: 8.4751788 | FA7: 8.4751788 | FB7: 8.4751788 | FC7: 8.4751788 | FD7: 8.4751788 | FE7: 8.4751788 | FF7: 8.4751788 | FG7: 8.4751788 | FH7: 8.4751788 | FI7: 8.4751788 | FJ7: 8.4751788 | FK7: 8.4751788 | FL7: 8.4751788 | FM7: 8.4751788 | FN7: 8.4751788 | FO7: 8.4751788 | FP7: 8.4751788 | FQ7: 8.4751788 | FR7: 8.4751788 | FS7: 8.4751788 | FT7: 8.4751788 | FU7: 8.4751788 | FV7: 8.4751788 | FW7: 8.4751788 | FX7: 8.4751788 | FY7: 8.4751788 | FZ7: 8.4751788 | GA7: 8.4751788 | GB7: 8.4751788 | GC7: 8.4751788 | GD7: 8.4751788 | GE7: 8.4751788 | GF7: 8.4751788 | GG7: 8.4751788 | GH7: 8.4751788 | GI7: 8.4751788 | GJ7: 8.4751788 | GK7: 8.4751788 | GL7: 8.4751788 | GM7: 8.4751788 | GN7: 8.4751788 | GO7: 8.4751788 | GP7: 8.4751788 | GQ7: 8.4751788 | GR7: 8.4751788 | GS7: 8.4751788 | GT7: 8.4751788
A8: 11 | B8: AF_O_D_S | C8: 0.36108426 | D8: -0.31603624 | E8: 0.43180039 | F8: 0.53442623 | G8: 0.66269882 | H8: 0.81322583 | I8: 0.98024895 | J8: 1.1562516 | K8: 1.3325467 | L8: 1.4997382 | M8: -3.2462075 | N8: -4.0919143 | O8: -5.1463147 | P8: -5.8344401 | Q8: -6.3828081 | R8: -7.8775029 | S8: -9.3787556 | T8: -10.866631 | U8: -12.321625 | V8: -13.726564 | W8: -15.06749 | X8: -16.334049 | Y8: -7.295912 | Z8: -9.2554798 | AA8: -11.117999 | AB8: -12.211181 | AC8: -13.216654 | AD8: -14.142045 | AE8: -14.993686 | AF8: -15.777427 | AG8: -16.499193 | AH8: -17.16536 | AI8: -2.4766284 | AJ8: -10.118167 | AK8: -10.621254 | AL8: -11.335803 | AM8: -11.973497 | AN8: -12.548363 | AO8: -13.071428 | AP8: -13.551754 | AQ8: -13.997165 | AR8: -14.414751 | AS8: -14.811228 | AT8: -15.193172 | AU8: -15.567194 | AV8: -15.940048 | AW8: 2.2065216 | AX8: -9.4562525 | AY8: -8.4131442 | AZ8: -9.0596297 | BA8: -9.5985913 | BB8: -10.059776 | BC8: -10.465033 | BD8: -10.830677 | BE8: -11.243772 | BF8: -11.666111 | BG8: -12.079578 | BH8: -12.490491 | BI8: -12.904315 | BJ8: -13.325947 | BK8: 0.090171259 | BL8: 69.393683 | BM8: 9.6806493 | BN8: 9.3474115 | BO8: 9.1042335 | BP8: 8.9316737 | BQ8: 8.814573 | BR8: 8.7388176 | BS8: 8.6909486 | BT8: 8.6580433 | BU8: 8.6276784 | BV8: 3.6936474 | BW8: 2.6677596 | BX8: 1.4399439 | BY8: 0.58433443 | BZ8: -0.12620492 | CA8: -1.7782239 | CB8: -3.43231 | CC8: -5.0688067 | CD8: -6.6684328 | CE8: -8.2141982 | CF8: -9.6922977 | CG8: -11.092511 | CH8: -2.1846265 | CI8: -4.2711509 | CJ8: -6.2574274 | CK8: -7.4712591 | CL8: -8.5943576 | CM8: -9.6344311 | CN8: -10.597889 | CO8: -11.490657 | CP8: -12.31873 | CQ8: -13.088553 | CR8: 1.4991052 | CS8: -6.2409891 | CT8: -6.8401767 | CU8: -7.6484328 | CV8: -8.3775019 | CW8: -9.0414682 | CX8: -9.6514156 | CY8: -10.216462 | CZ8: -10.744485 | DA8: -11.242629 | DB8: -11.717659 | DC8: -12.176202 | DD8: -12.624918 | DE8: -13.070609 | DF8: 5.0049355 | DG8: -6.727098 | DH8: -5.7515271 | DI8: -6.4638712 | DJ8: -7.0670543 | DK8: -7.5908642 | DL8: -8.0571906 | DM8: -8.4823855 | DN8: -8.9535522 | DO8: -9.4325205 | DP8: -9.9012096 | DQ8: -10.365974 | DR8: -10.832311 | DS8: -11.305151 | DT8: 2.0610293 | DU8: 71.315843 | DV8: 11.555321 | DW8: 11.175774 | DX8: 10.887436 | DY8: 10.670837 | DZ8: 10.51079 | EA8: 10.393154 | EB8: 10.304443 | EC8: 10.231709 | ED8: 10.162504 | EE8: 5.1905959 | EF8: 4.1277704 | EG8: 2.863933 | EH8: 1.9731951 | EI8: 1.2283982 | EJ8: -0.45702903 | EK8: -2.1436954 | EL8: -3.8119647 | EM8: -5.4425762 | EN8: -7.018559 | EO8: -8.5261273 | EP8: -9.9550791 | EQ8: -1.0752218 | ER8: -3.1890788 | ES8: -5.2020111 | ET8: -6.4418385 | EU8: -7.590289 | EV8: -8.6550869 | EW8: -9.345989 | EX8: -10.262272 | EY8: -11.113278 | EZ8: -11.905467 | FA8: 2.660378 | FB8: -5.1009892 | FC8: -5.7209235 | FD8: -6.5494132 | FE8: -7.2982154 | FF8: -7.9814269 | FG8: -8.6101436 | FH8: -9.1934952 | FI8: -9.739371 | FJ8: -10.254927 | FK8: -10.746937 | FL8: -11.222042 | FM8: -11.686911 | FN8: -12.148355 | FO8: 5.9118257 | FP8: -5.8351923 | FQ8: -4.8742361 | FR8: -5.6008338 | FS8: -6.2179186 | FT8: -6.7552871 | FU8: -7.2348374 | FV8: -7.6729297 | FW8: -8.1566756 | FX8: -8.6479127 | FY8: -9.1285679 | FZ8: -9.6050029 | GA8: -10.082723 | GB8: -10.566666 | GC8: 2.7886862 | GD8: 72.032939 | GE8: 12.262116 | GF8: 11.872521 | GG8: 11.574383 | GH8: 11.348226 | GI8: 11.178856 | GJ8: 11.052127 | GK8: 10.954548 | GL8: 10.873164 | GM8: 10.795521 | GN8: 5.8153835 | GO8: 4.7445309 | GP8: 3.4728641 | GQ8: 2.5744895 | GR8: 1.8222439 | GS8: 0.12955119 | GT8: -1.5642018
A9: 12 | B9: AF_O_D_S_Ash | C9: 0.36108426 | D9: -0.31603624 | E9: 0.43180039 | F9: 0.53442623 | G9: 0.66269882 | H9: 0.81322583 | I9: 0.98024895 | J9: 1.1562516 | K9: 1.3325467 | L9: 1.4997382 | M9: -3.2462075 | N9: -4.0919143 | O9: -5.1463147 | P9: -5.8344401 | Q9: -6.3828081 | R9: -7.8775029 | S9: -9.3787556 | T9: -10.866631 | U9: -12.321625 | V9: -13.726564 | W9: -15.06749 | X9: -16.334049 | Y9: -17.519631 | Z9: -18.621378 | AA9: -5.9533911 | AB9: -9.7055445 | AC9: -11.177951 | AD9: -12.20245 | AE9: -13.131486 | AF9: -13.977311 | AG9: -14.749738 | AH9: -15.457199 | AI9: -16.107497 | AJ9: -16.708312 | AK9: -17.267552 | AL9: -17.793585 | AM9: -18.295395 | AN9: -18.782679 | AO9: -19.265902 | AP9: -1.9008702 | AQ9: -14.846661 | AR9: -15.56902 | AS9: -16.186816 | AT9: -16.729482 | AU9: -17.220636 | AV9: -17.679979 | AW9: -18.124633 | AX9: -18.570073 | AY9: -18.904809 | AZ9: -19.027101 | BA9: -19.140836 | BB9: -19.239767 | BC9: -4.2016422 | BD9: -13.951721 | BE9: -13.198551 | BF9: -14.044681 | BG9: -14.805368 | BH9: -15.212211 | BI9: -15.399745 | BJ9: -15.543544 | BK9: 0.50869694 | BL9: 78.155417 | BM9: 9.1511965 | BN9: 9.6436092 | BO9: 9.5030899 | BP9: 9.3984601 | BQ9: 9.3248485 | BR9: 9.2754128 | BS9: 9.2418331 | BT9: 9.2148177 | BU9: 9.1845081 | BV9: 4.2465091 | BW9: 3.2139075 | BX9: 1.9775338 | BY9: 1.1121568 | BZ9: 0.39108684 | CA9: -1.2719124 | CB9: -2.937209 | CC9: -4.5849935 | CD9: -6.1958789 | CE9: -7.752802 | CF9: -9.2419083 | CG9: -10.652944 | CH9: -11.979396 | CI9: -13.218499 | CJ9: -0.68444176 | CK9: -4.567187 | CL9: -6.1669317 | CM9: -7.3155969 | CN9: -8.3657058 | CO9: -9.3295906 | CP9: -10.217137 | CQ9: -11.036853 | CR9: -11.796611 | CS9: -12.504163 | CT9: -13.167483 | CU9: -13.795008 | CV9: -14.395785 | CW9: -14.979574 | CX9: -15.556902 | CY9: 1.7163646 | CZ9: -11.318909 | DA9: -12.128527 | DB9: -12.831412 | DC9: -13.457052 | DD9: -14.029118 | DE9: -14.567363 | DF9: -15.088958 | DG9: -15.609426 | DH9: -16.017328 | DI9: -16.210968 | DJ9: -16.394278 | DK9: -16.561057 | DL9: -1.5890952 | DM9: -11.403694 | DN9: -10.713443 | DO9: -11.62093 | DP9: -12.44145 | DQ9: -12.906642 | DR9: -13.151076 | DS9: -13.350364 | DT9: 2.647764 | DU9: 80.241714 | DV9: 11.186032 | DW9: 11.62826 | DX9: 11.4388 | DY9: 11.286444 | DZ9: 11.166288 | EA9: 11.071462 | EB9: 10.993618 | EC9: 10.923434 | ED9: 10.851027 | EE9: 5.8719722 | EF9: 4.7993326 | EG9: 3.5239125 | EH9: 2.6204563 | EI9: 1.8622501 | EJ9: 0.16303427 | EK9: -1.5375824 | EL9: -3.2198125 | EM9: -4.8642908 | EN9: -6.4539754 | EO9: -7.9750325 | EP9: -9.4172286 | EQ9: -10.77407 | ER9: -12.04281 | ES9: 0.4623423 | ET9: -3.4485926 | EU9: -5.0758299 | EV9: -6.251308 | EW9: -7.0308983 | EX9: -8.0202868 | EY9: -8.9327062 | EZ9: -9.7766807 | FA9: -10.560099 | FB9: -11.290725 | FC9: -11.97655 | FD9: -12.626023 | FE9: -13.248207 | FF9: -13.852875 | FG9: -14.450566 | FH9: 2.802841 | FI9: -10.251803 | FJ9: -11.080312 | FK9: -11.801623 | FL9: -12.445235 | FM9: -13.034828 | FN9: -13.590168 | FO9: -14.128437 | FP9: -14.665168 | FQ9: -15.088931 | FR9: -15.298042 | FS9: -15.496442 | FT9: -15.677937 | FU9: -0.72033072 | FV9: -10.548931 | FW9: -9.8723358 | FX9: -10.793142 | FY9: -11.626655 | FZ9: -12.104518 | GA9: -12.361312 | GB9: -12.572656 | GC9: 3.4137137 | GD9: 80.996194 | GE9: 11.929325 | GF9: 12.360641 | GG9: 12.160538 | GH9: 11.997799 | GI9: 11.867517 | GJ9: 11.762814 | GK9: 11.675335 | GL9: 11.595754 | GM9: 11.514179 | GN9: 6.5261836 | GO9: 5.4448221 | GP9: 4.1608945 | GQ9: 3.2491397 | GR9: 2.4828387 | GS9: 0.77572688 | GT9: -0.93259188
A10: 13 | B10: AF_O_W_S | C10: 0.70331617 | D10: 0.34940438 | E10: 1.1838319 | F10: 1.2555921 | G10: 1.3261201 | H10: 1.3995915 | I10: 1.4781834 | J10: 1.5629993 | K10: 1.6545174 | L10: 1.7528228 | M10: 1.8577384 | N10: 1.9689018 | O10: 0.067096585 | P10: 0.31799901 | Q10: 0.61096292 | R10: 0.89028186 | S10: 1.3328305 | T10: 1.4058058 | U10: 1.4478638 | V10: 1.4559082 | W10: 1.4291241 | X10: 1.3680419 | Y10: 0.45974908 | Z10: 0.31339594 | AA10: 0.43869991 | AB10: 0.006742173 | AC10: -0.45863872 | AD10: -0.95244746 | AE10: -1.4696254 | AF10: -2.0051903 | AG10: -2.5543355 | AH10: -3.1125031 | AI10: -3.6754363 | AJ10: -4.2392185 | AK10: -4.8003015 | AL10: -5.3555256 | AM10: -5.9021334 | AN10: -6.4377786 | AO10: -6.9605306 | AP10: -7.4688766 | AQ10: -7.9617197 | AR10: -8.4383763 | AS10: -8.8985702 | AT10: -9.3424264 | AU10: -2.7680465 | AV10: -2.7675114 | AW10: -3.9422912 | AX10: -4.5071467 | AY10: -5.0186387 | AZ10: -5.4885488 | BA10: -5.9252895 | BB10: -6.3349422 | BC10: -6.7219888 | BD10: -7.0898273 | BE10: -7.4411349 | BF10: -7.7781224 | BG10: -8.102712 | BH10: -8.4166618 | BI10: -8.7216505 | BJ10: -9.0193366 | BK10: -9.3113973 | BL10: 1.3353715 | BM10: -3.3025519 | BN10: -3.399708 | BO10: -3.8635586 | BP10: -4.2679022 | BQ10: -4.6279436 | BR10: -4.9545961 | BS10: -5.2557534 | BT10: -5.5371864 | BU10: -5.8031777 | BV10: -6.0569688 | BW10: -6.3010746 | BX10: -6.5375061 | BY10: -6.7679259 | BZ10: -6.9937572 | CA10: -7.2162608 | CB10: -7.4365876 | CC10: -7.6558151 | CD10: -7.8749726 | CE10: 1.0393666 | CF10: 52.1106 | CG10: 11.009429 | CH10: 10.091059 | CI10: 9.4087157 | CJ10: 8.8998531 | CK10: 8.5186271 | CL10: 8.2318164 | CM10: 8.015466 | CN10: 7.8523075 | CO10: 7.7298507 | CP10: 7.6390003 | CQ10: 7.5730623 | CR10: 5.5083187 | CS10: 5.6072382 | CT10: 5.756883 | CU10: 5.8999036 | CV10: 6.2119901 | CW10: 6.1594804 | CX10: 6.0804016 | CY10: 5.9711919 | CZ10: 5.8306872 | DA10: 5.6591512 | DB10: 4.6434636 | DC10: 4.3926091 | DD10: 4.4161695 | DE10: 3.8851127 | DF10: 3.3231796 | DG10: 2.7352793 | DH10: 2.1263934 | DI10: 1.5014334 | DJ10: 0.86514017 | DK10: 0.22200994 | DL10: -0.42375909 | DM10: -1.0683063 | DN10: -1.7081371 | DO10: -2.3401437 | DP10: -2.9616186 | DQ10: -3.5702642 | DR10: -4.1641971 | DS10: -4.7419501 | DT10: -5.3024711 | DU10: -5.8451197 | DV10: -6.3696619 | DW10: -6.876264 | DX10: -0.3630675 | DY10: -0.42219247 | DZ10: -1.655147 | EA10: -2.2767292 | EB10: -2.8435358 | EC10: -3.3673837 | ED10: -3.85672 | EE10: -4.3176593 | EF10: -4.7547164 | EG10: -5.1713211 | EH10: -5.5701816 | EI10: -5.953539 | EJ10: -6.3233451 | EK10: -6.6813866 | EL10: -7.0293705 | EM10: -7.3689825 | EN10: -7.7019264 | EO10: 2.9049756 | EP10: -1.7718233 | EQ10: -1.9068883 | ER10: -2.4077055 | ES10: -2.8480969 | ET10: -3.2432899 | EU10: -3.6042206 | EV10: -3.9388041 | EW10: -3.9561642 | EX10: -4.2539413 | EY10: -4.5387283 | EZ10: -4.8130602 | FA10: -5.0789668 | FB10: -5.3381296 | FC10: -5.5919901 | FD10: -5.8418268 | FE10: -6.0888078 | FF10: -6.3340278 | FG10: -6.5785325 | FH10: 2.3110889 | FI10: 53.358218 | FJ10: 12.233541 | FK10: 11.292249 | FL10: 10.587552 | FM10: 10.05689 | FN10: 9.654406 | FO10: 9.3468647 | FP10: 9.110298 | FQ10: 8.9274246 | FR10: 8.785742 | FS10: 8.6761426 | FT10: 8.5919207 | FU10: 6.5093464 | FV10: 6.5908774 | FW10: 6.7235649 | FX10: 6.8500484 | FY10: 7.1460079 | FZ10: 7.0777709 | GA10: 6.9833545 | GB10: 6.8591873 | GC10: 6.7040958 | GD10: 6.5183344 | GE10: 5.4887738 | GF10: 5.2243899 | GG10: 5.2347562 | GH10: 4.690832 | GI10: 4.1163501 | GJ10: 3.5162118 | GK10: 2.8953909 | GL10: 2.2587915 | GM10: 1.6111468 | GN10: 0.95694624 | GO10: 0.30038084 | GP10: -0.35469551 | GQ10: -1.004795 | GR10: -1.6468161 | GS10: -2.2780578 | GT10: -2.8962285
A11: 14 | B11: AF_M_W_S | C11: -1.6899173 | D11: -2.0719996 | E11: -1.2795814 | F11: -1.263415 | G11: -1.2617452 | H11: -1.2700131 | I11: -1.2855964 | J11: -1.3068868 | K11: -1.3328451 | L11: -1.3627705 | M11: -1.3961741 | N11: -1.4327049 | O11: -3.8961591 | P11: -4.231606 | Q11: -4.5082678 | R11: -4.7571375 | S11: -4.7888084 | T11: -5.1312828 | U11: -5.4455948 | V11: -5.7369361 | W11: -6.0093682 | X11: -6.2660423 | Y11: -7.3739013 | Z11: -7.635805 | AA11: -7.5514944 | AB11: -7.9585025 | AC11: -8.3409183 | AD11: -8.7010841 | AE11: -9.0407498 | AF11: -9.3612493 | AG11: -9.6636229 | AH11: -9.9487033 | AI11: -10.217177 | AJ11: -10.469626 | AK11: -10.706564 | AL11: -10.928454 | AM11: -11.135727 | AN11: -11.328793 | AO11: -11.50805 | AP11: -11.673891 | AQ11: -11.826703 | AR11: -11.966876 | AS11: -12.094797 | AT11: -12.210859 | AU11: -7.9258896 | AV11: -7.6436546 | AW11: -8.536367 | AX11: -8.8198583 | AY11: -9.0515791 | AZ11: -9.2440084 | BA11: -9.4060665 | BB11: -9.5441573 | BC11: -9.6629041 | BD11: -9.7656699 | BE11: -9.8549257 | BF11: -9.93251 | BG11: -9.9998128 | BH11: -10.057905 | BI11: -10.10763 | BJ11: -10.14967 | BK11: -10.184588 | BL11: -2.231892 | BM11: -6.6512137 | BN11: -6.5322306 | BO11: -6.7824493 | BP11: -6.975633 | BQ11: -7.1268823 | BR11: -7.2469414 | BS11: -7.3434721 | BT11: -7.4219546 | BU11: -7.4863252 | BV11: -7.5394267 | BW11: -7.5833264 | BX11: -7.6195423 | BY11: -7.6492014 | BZ11: -7.6731531 | CA11: -7.6920487 | CB11: -7.7063975 | CC11: -7.7166068 | CD11: -7.7230103 | CE11: 1.4085369 | CF11: 49.717367 | CG11: 8.5880245 | CH11: 7.6276461 | CI11: 6.8897086 | CJ11: 6.3119878 | CK11: 5.8490225 | CL11: 5.4680366 | CM11: 5.1455799 | CN11: 4.864945 | CO11: 4.6142574 | CP11: 4.3850878 | CQ11: 4.1714557 | CR11: 1.545063 | CS11: 1.0576332 | CT11: 0.63765228 | CU11: 0.25248426 | CV11: 0.090351218 | CW11: -0.37760819 | CX11: -0.81305704 | CY11: -1.2216524 | CZ11: -1.607805 | DA11: -1.9749329 | DB11: -3.1901867 | DC11: -3.5565919 | DD11: -3.5740247 | DE11: -4.080132 | DF11: -4.5591 | DG11: -5.0133573 | DH11: -5.4447309 | DI11: -5.8546256 | DJ11: -6.2441472 | DK11: -6.6141903 | DL11: -6.9654995 | DM11: -7.2987141 | DN11: -7.6143999 | DO11: -7.913072 | DP11: -8.1952117 | DQ11: -8.4612782 | DR11: -8.7117166 | DS11: -8.9469643 | DT11: -9.1674546 | DU11: -9.373619 | DV11: -9.565889 | DW11: -9.7446969 | DX11: -5.5209106 | DY11: -5.2983357 | DZ11: -6.2492228 | EA11: -6.5894407 | EB11: -6.8764762 | EC11: -7.1228434 | ED11: -7.337497 | EE11: -7.5268745 | EF11: -7.6956317 | EG11: -7.8471637 | EH11: -7.9839724 | EI11: -8.1079266 | EJ11: -8.2204458 | EK11: -8.3226298 | EL11: -8.4153503 | EM11: -8.4993158 | EN11: -8.5751171 | EO11: -0.6622878 | EP11: -5.120485 | EQ11: -5.039411 | ER11: -5.3265962 | ES11: -5.5558276 | ET11: -5.7422287 | EU11: -5.8965659 | EV11: -6.0265228 | EW11: -5.8409324 | EX11: -5.9370888 | EY11: -6.0211863 | EZ11: -6.095312 | FA11: -6.161003 | FB11: -6.2194051 | FC11: -6.271386 | FD11: -6.3176147 | FE11: -6.3586177 | FF11: -6.3948195 | FG11: -6.4265701 | FH11: 2.6802592 | FI11: 50.964985 | FJ11: 9.8121366 | FK11: 8.8288356 | FL11: 8.0685445 | FM11: 7.4690247 | FN11: 6.9848014 | FO11: 6.5830849 | FP11: 6.2404118 | FQ11: 5.9400622 | FR11: 5.6701488 | FS11: 5.4222301 | FT11: 5.190314 | FU11: 2.5460907 | FV11: 2.0412724 | FW11: 1.6043341 | FX11: 1.2026291 | FY11: 1.024369 | FZ11: 0.54068224 | GA11: 0.089895832 | GB11: -0.33365698 | GC11: -0.73439646 | GD11: -1.1157498 | GE11: -2.3448765 | GF11: -2.724811 | GG11: -2.7554381 | GH11: -3.2744127 | GI11: -3.7659295 | GJ11: -4.2324248 | GK11: -4.6757334 | GL11: -5.0972676 | GM11: -5.4981406 | GN11: -5.879254 | GO11: -6.2413596 | GP11: -6.5851034 | GQ11: -6.9110578 | GR11: -7.2197444 | GS11: -7.5116509 | GT11: -7.7872425
A12: 15 | B12: AF_M_D_S | C12: -1.8558286 | D12: -2.6335427 | E12: -2.0502532 | F12: -2.1719032 | G12: -2.3220385 | H12: -2.4972152 | I12: -2.6952761 | J12: -2.9149301 | K12: -3.1553728 | L12: -3.4160533 | M12: -9.3135973 | N12: -11.072593 | O12: -12.7042 | P12: -13.618621 | Q12: -14.126313 | R12: -15.386283 | S12: -16.512626 | T12: -17.526877 | U12: -18.442129 | V12: -19.266914 | W12: -20.007273 | X12: -20.667895 | Y12: -13.418787 | Z12: -14.919188 | AA12: -16.306079 | AB12: -16.915597 | AC12: -17.436037 | AD12: -17.87998 | AE12: -18.25706 | AF12: -18.574831 | AG12: -18.839374 | AH12: -19.055712 | AI12: -6.7760576 | AJ12: -14.028362 | AK12: -14.145838 | AL12: -14.479747 | AM12: -14.742432 | AN12: -14.947919 | AO12: -15.106592 | AP12: -15.226239 | AQ12: -15.3128 | AR12: -15.370884 | AS12: -15.404143 | AT12: -15.415533 | AU12: -15.407502 | AV12: -15.382115 | AW12: -0.25928544 | AX12: -11.62873 | AY12: -10.29525 | AZ12: -10.653544 | BA12: -10.905436 | BB12: -11.07938 | BC12: -11.195703 | BD12: -11.268976 | BE12: -11.384312 | BF12: -11.501348 | BG12: -11.599623 | BH12: -11.682928 | BI12: -11.754028 | BJ12: -11.814957 | BK12: 1.921156 | BL12: 67.17677 | BM12: 7.3631429 | BN12: 6.8653579 | BO12: 6.3979041 | BP12: 5.9469363 | BQ12: 5.504132 | BR12: 5.0632926 | BS12: 4.6197669 | BT12: 4.1701238 | BU12: 3.7118868 | BV12: -2.2691438 | BW12: -4.028985 | BX12: -5.5880664 | BY12: -6.3969331 | BZ12: -7.9007912 | CA12: -9.317309 | CB12: -10.595728 | CC12: -11.757861 | CD12: -12.817025 | CE12: -13.781934 | CF12: -14.658782 | CG12: -15.452391 | CH12: -8.3328849 | CI12: -9.9596075 | CJ12: -11.469637 | CK12: -12.199201 | CL12: -12.836679 | CM12: -13.394731 | CN12: -13.883069 | CO12: -14.309322 | CP12: -14.679639 | CQ12: -14.999116 | CR12: -2.8200295 | CS12: -10.170396 | CT12: -10.383493 | CU12: -10.810641 | CV12: -11.164244 | CW12: -11.458386 | CX12: -11.703507 | CY12: -11.907453 | CZ12: -12.076213 | DA12: -12.214452 | DB12: -12.325872 | DC12: -12.413479 | DD12: -12.479769 | DE12: -12.526855 | DF12: 2.5253038 | DG12: -8.9130547 | DH12: -7.6467755 | DI12: -8.0705985 | DJ12: -8.3863916 | DK12: -8.6226487 | DL12: -8.7997366 | DM12: -8.9322644 | DN12: -9.1053823 | DO12: -9.2787655 | DP12: -9.4319876 | DQ12: -9.5688747 | DR12: -9.692226 | DS12: -9.8041093 | DT12: 3.8823152 | DU12: 69.089474 | DV12: 9.2285951 | DW12: 8.684731 | DX12: 8.1723418 | DY12: 7.6775538 | DZ12: 7.1920167 | EA12: 6.7095049 | EB12: 6.2253407 | EC12: 5.7360672 | ED12: 5.2391828 | EE12: -0.7795365 | EF12: -2.5761319 | EG12: -4.171056 | EH12: -5.0148767 | EI12: -6.5528223 | EJ12: -8.0025825 | EK12: -9.3134198 | EL12: -10.507168 | EM12: -11.597164 | EN12: -12.59214 | EO12: -13.498311 | EP12: -14.320516 | EQ12: -7.228898 | ER12: -8.8828178 | ES12: -10.419372 | ET12: -11.174802 | EU12: -11.837506 | EV12: -12.42016 | EW12: -12.635823 | EX12: -13.085475 | EY12: -13.478612 | EZ12: -13.820344 | FA12: -1.6629628 | FB12: -9.034497 | FC12: -9.2682377 | FD12: -9.7155195 | FE12: -10.088758 | FF12: -10.402051 | FG12: -10.665849 | FH12: -10.888009 | FI12: -11.074534 | FJ12: -11.230098 | FK12: -11.358415 | FL12: -11.462503 | FM12: -11.544865 | FN12: -11.607627 | FO12: 3.4292433 | FP12: -8.0240261 | FQ12: -6.7722895 | FR12: -7.210296 | FS12: -7.5399226 | FT12: -7.7896715 | FU12: -7.9799183 | FV12: -8.1252801 | FW12: -8.3109155 | FX12: -8.4965073 | FY12: -8.6616366 | FZ12: -8.8101375 | GA12: -8.9448159 | GB12: -9.0677471 | GC12: 4.607902 | GD12: 69.804551 | GE12: 9.9334214 | GF12: 9.3795593 | GG12: 8.8574185 | GH12: 8.3531192 | GI12: 7.8583051 | GJ12: 7.3667448 | GK12: 6.8737551 | GL12: 6.3758735 | GM12: 5.8705929 | GN12: -0.15631591 | GO12: -1.9608991 | GP12: -3.5636145 | GQ12: -4.4150347 | GR12: -5.9603926 | GS12: -7.4173829 | GT12: -8.7352724
A13: 16 | B13: AF_M_D_S_N | C13: -1.8558286 | D13: -2.6335427 | E13: -2.0502532 | F13: -2.1719032 | G13: -2.3220385 | H13: -2.4972152 | I13: -2.6952761 | J13: -2.9149301 | K13: -3.1553728 | L13: -3.4160533 | M13: -9.3135973 | N13: -11.072593 | O13: -12.7042 | P13: -13.618621 | Q13: -14.126313 | R13: -15.386283 | S13: -16.512626 | T13: -17.526877 | U13: -18.442129 | V13: -19.266914 | W13: -20.007273 | X13: -20.667895 | Y13: -21.252755 | Z13: -21.765473 | AA13: -11.594894 | AB13: -14.891012 | AC13: -15.899903 | AD13: -16.459314 | AE13: -16.92616 | AF13: -17.315769 | AG13: -17.639668 | AH13: -17.90669 | AI13: -18.123747 | AJ13: -18.296384 | AK13: -18.429154 | AL13: -18.525893 | AM13: -18.589903 | AN13: -18.624088 | AO13: -18.631044 | AP13: -3.9307709 | AQ13: -16.472814 | AR13: -16.793262 | AS13: -17.007315 | AT13: -17.139827 | AU13: -17.208956 | AV13: -17.22809 | AW13: -17.207211 | AX13: -17.153861 | AY13: -17.073824 | AZ13: -17.196117 | BA13: -17.309851 | BB13: -17.408782 | BC13: -4.1216402 | BD13: -13.504321 | BE13: -12.366541 | BF13: -12.806413 | BG13: -13.134395 | BH13: -13.381227 | BI13: -13.56876 | BJ13: -13.712559 | BK13: 2.3396817 | BL13: 75.938504 | BM13: 6.8336901 | BN13: 7.1615556 | BO13: 6.7967605 | BP13: 6.4137228 | BQ13: 6.0144075 | BR13: 5.5998877 | BS13: 5.1706514 | BT13: 4.7268982 | BU13: 4.2687165 | BV13: -1.8208807 | BW13: -3.7667716 | BX13: -5.5803512 | BY13: -6.6720238 | BZ13: -7.3524177 | CA13: -8.7806927 | CB13: -10.07108 | CC13: -11.24524 | CD13: -12.316383 | CE13: -13.293152 | CF13: -14.181691 | CG13: -14.986791 | CH13: -15.712521 | CI13: -16.362593 | CJ13: -6.3259444 | CK13: -9.7526543 | CL13: -10.888883 | CM13: -11.57246 | CN13: -12.16038 | CO13: -12.668048 | CP13: -13.107067 | CQ13: -13.486343 | CR13: -13.812861 | CS13: -14.092235 | CT13: -14.329086 | CU13: -14.527316 | CV13: -14.690293 | CW13: -14.820984 | CX13: -14.922044 | CY13: -0.31353609 | CZ13: -12.945062 | DA13: -13.352769 | DB13: -13.651911 | DC13: -13.867398 | DD13: -14.017439 | DE13: -14.115474 | DF13: -14.171536 | DG13: -14.193215 | DH13: -14.186343 | DI13: -14.379983 | DJ13: -14.563294 | DK13: -14.730072 | DL13: -1.5090932 | DM13: -10.956294 | DN13: -9.8814322 | DO13: -10.382662 | DP13: -10.770477 | DQ13: -11.075657 | DR13: -11.320092 | DS13: -11.51938 | DT13: 4.4787488 | DU13: 78.024801 | DV13: 8.8685259 | DW13: 9.1462065 | DX13: 8.7324709 | DY13: 8.3017062 | DZ13: 7.8558471 | EA13: 7.3959374 | EB13: 6.922436 | EC13: 6.4355148 | ED13: 5.9352349 | EE13: -0.19541755 | EF13: -2.1813466 | EG13: -4.0339724 | EH13: -5.1637243 | EI13: -5.8812544 | EJ13: -7.3457461 | EK13: -8.6714531 | EL13: -9.8800588 | EM13: -10.984795 | EN13: -11.994325 | EO13: -12.914816 | EP13: -13.751075 | EQ13: -14.507195 | ER13: -15.186905 | ES13: -5.1791603 | ET13: -8.6340599 | EU13: -9.7977817 | EV13: -10.508171 | EW13: -10.825572 | EX13: -11.358744 | EY13: -11.822637 | EZ13: -12.226171 | FA13: -12.576349 | FB13: -12.878797 | FC13: -13.138153 | FD13: -13.358332 | FE13: -13.542716 | FF13: -13.694284 | FG13: -13.815707 | FH13: 0.77294028 | FI13: -11.877956 | FJ13: -12.304554 | FK13: -12.622122 | FL13: -12.85558 | FM13: -13.023148 | FN13: -13.138279 | FO13: -13.211015 | FP13: -13.248957 | FQ13: -13.257946 | FR13: -13.467057 | FS13: -13.665457 | FT13: -13.846953 | FU13: -0.64032873 | FV13: -10.101531 | FW13: -9.0403249 | FX13: -9.5548742 | FY13: -9.9556817 | FZ13: -10.273533 | GA13: -10.530327 | GB13: -10.741671 | GC13: 5.2446985 | GD13: 78.779282 | GE13: 9.611819 | GF13: 9.8785876 | GG13: 9.4542085 | GH13: 9.013062 | GI13: 8.5570765 | GJ13: 8.0872893 | GK13: 7.6041534 | GL13: 7.1078345 | GM13: 6.5983878 | GN13: 0.45879376 | GO13: -1.5358571 | GP13: -3.3969905 | GQ13: -4.5350409 | GR13: -5.2606658 | GS13: -6.7330535 | GT13: -8.0664626
A14: 17 | B14: FM_O_D_S | C14: 10.183306 | D14: 9.229764 | E14: 9.7204048 | F14: 9.5809516 | G14: 9.4793184 | H14: 9.4099951 | I14: 9.3656899 | J14: 9.3377671 | K14: 9.3167141 | L14: 9.2925182 | M14: 4.3606771 | N14: 3.3342041 | O14: 2.1038793 | P14: 1.244438 | Q14: 0.5291685 | R14: -1.1281793 | S14: -2.7879815 | T14: -4.4304328 | U14: -6.0361474 | V14: -7.5880615 | W14: -9.0723187 | X14: -10.478662 | Y14: -1.5768573 | Z14: -3.6693919 | AA14: -5.6615985 | AB14: -6.8812723 | AC14: -8.0101201 | AD14: -9.0558473 | AE14: -10.024862 | AF14: -10.923088 | AG14: -11.756521 | AH14: -12.531607 | AI14: 2.0508841 | AJ14: -5.6942812 | AK14: -6.2984455 | AL14: -7.1115853 | AM14: -7.8454465 | AN14: -8.5141146 | AO14: -9.1286751 | AP14: -9.6982472 | AQ14: -10.23071 | AR14: -10.73321 | AS14: -11.212512 | AT14: -11.675246 | AU14: -12.128072 | AV14: -12.577795 | AW14: 5.4937953 | AX14: -6.2421164 | AY14: -5.2703492 | AZ14: -5.9864234 | BA14: -6.5932645 | BB14: -7.1206617 | BC14: -7.5905058 | BD14: -8.0191499 | BE14: -8.4936989 | BF14: -8.9759836 | BG14: -9.4479244 | BH14: -9.9158766 | BI14: -10.38534 | BJ14: -10.861245 | BK14: 2.5019316 | BL14: 71.7538 | BM14: 11.990391 | BN14: 11.608013 | BO14: 11.3169 | BP14: 11.097581 | BQ14: 10.934867 | BR14: 10.814618 | BS14: 10.723346 | BT14: 10.648101 | BU14: 10.576435 | BV14: 5.6021148 | BW14: 4.5369253 | BX14: 3.2707711 | BY14: 2.3777626 | BZ14: 1.6307404 | CA14: -0.056867591 | CB14: -1.745671 | CC14: -3.4160346 | CD14: -5.0486983 | CE14: -6.6266921 | CF14: -8.1362311 | CG14: -9.5671137 | CH14: -0.68914847 | CI14: -2.8048594 | CJ14: -4.8196081 | CK14: -6.0612153 | CL14: -7.2114096 | CM14: -8.277916 | CN14: -9.2671605 | CO14: -10.185083 | CP14: -11.037696 | CQ14: -11.83146 | CR14: 2.732844 | CS14: -5.0300339 | CT14: -5.6514481 | CU14: -6.4813875 | CV14: -7.2316099 | CW14: -7.9162125 | CX14: -8.546292 | CY14: -9.1309785 | CZ14: -9.6781618 | DA14: -10.194998 | DB14: -10.688264 | DC14: -11.164597 | DD14: -11.630669 | DE14: -12.093292 | DF14: 5.9657336 | DG14: -5.7824154 | DH14: -4.8225667 | DI14: -5.5502493 | DJ14: -6.1683966 | DK14: -6.7068056 | DL14: -7.187375 | DM14: -7.6264653 | DN14: -8.1111887 | DO14: -8.6033829 | DP14: -9.0849756 | DQ14: -9.5623285 | DR14: -10.040948 | DS14: -10.525771 | DT14: 2.8287191 | DU14: 72.072127 | DV14: 12.300478 | DW14: 11.910073 | DX14: 11.611143 | DY14: 11.38421 | DZ14: 11.21408 | EA14: 11.086607 | EB14: 10.988299 | EC14: 10.906201 | ED14: 10.827859 | EE14: 5.8470378 | EF14: 4.7755154 | EG14: 3.5031928 | EH14: 2.6041761 | EI14: 1.8513018 | EJ14: 0.15799354 | EK14: -1.5363621 | EL14: -3.2121339 | EM14: -4.8500653 | EN14: -6.4331902 | EO14: -7.9477271 | EP14: -9.383478 | EQ14: -0.51025464 | ER14: -2.6305845 | ES14: -4.6498323 | ET14: -5.8958219 | EU14: -7.050285 | EV14: -8.1209495 | EW14: -9.1142442 | EX14: -10.036112 | EY14: -10.892568 | EZ14: -11.690075 | FA14: 2.8705821 | FB14: -4.8958477 | FC14: -5.5207217 | FD14: -6.3540314 | FE14: -7.1075367 | FF14: -7.7953372 | FG14: -8.4285317 | FH14: -9.0162527 | FI14: -9.5663918 | FJ14: -10.086107 | FK14: -10.582178 | FL14: -11.061244 | FM14: -11.529977 | FN14: -11.995192 | FO14: 6.0613078 | FP14: -5.6893014 | FQ14: -4.7318492 | FR14: -5.4618663 | FS14: -6.0822877 | FT14: -6.6229121 | FU14: -7.1056396 | FV14: -7.5468322 | FW14: -8.0336034 | FX14: -8.5277927 | FY14: -9.0113287 | FZ14: -9.4905749 | GA14: -9.9710386 | GB14: -10.457658 | GC14: 2.8950817 | GD14: 72.136785 | GE14: 12.363474 | GF14: 11.971452 | GG14: 11.670945 | GH14: 11.442476 | GI14: 11.270851 | GJ14: 11.14192 | GK14: 11.042192 | GL14: 10.958711 | GM14: 10.879022 | GN14: 5.8968881 | GO14: 4.824087 | GP14: 3.5505186 | GQ14: 2.6502882 | GR14: 1.8962315 | GS14: 0.20177135 | GT14: -1.4937065
